BEGIN:VCALENDAR
VERSION:2.0
PRODID:-//The Center for Understanding in Conflict - ECPv6.15.20//NONSGML v1.0//EN
CALSCALE:GREGORIAN
METHOD:PUBLISH
X-WR-CALNAME:The Center for Understanding in Conflict
X-ORIGINAL-URL:https://understandinginconflict.org
X-WR-CALDESC:Events for The Center for Understanding in Conflict
REFRESH-INTERVAL;VALUE=DURATION:PT1H
X-Robots-Tag:noindex
X-PUBLISHED-TTL:PT1H
BEGIN:VTIMEZONE
TZID:America/Los_Angeles
BEGIN:DAYLIGHT
TZOFFSETFROM:-0800
TZOFFSETTO:-0700
TZNAME:PDT
DTSTART:20220313T100000
END:DAYLIGHT
BEGIN:STANDARD
TZOFFSETFROM:-0700
TZOFFSETTO:-0800
TZNAME:PST
DTSTART:20221106T090000
END:STANDARD
BEGIN:DAYLIGHT
TZOFFSETFROM:-0800
TZOFFSETTO:-0700
TZNAME:PDT
DTSTART:20230312T100000
END:DAYLIGHT
BEGIN:STANDARD
TZOFFSETFROM:-0700
TZOFFSETTO:-0800
TZNAME:PST
DTSTART:20231105T090000
END:STANDARD
BEGIN:DAYLIGHT
TZOFFSETFROM:-0800
TZOFFSETTO:-0700
TZNAME:PDT
DTSTART:20240310T100000
END:DAYLIGHT
BEGIN:STANDARD
TZOFFSETFROM:-0700
TZOFFSETTO:-0800
TZNAME:PST
DTSTART:20241103T090000
END:STANDARD
END:VTIMEZONE
BEGIN:VEVENT
DTSTART;TZID=America/Los_Angeles:20231030T120000
DTEND;TZID=America/Los_Angeles:20231030T130000
DTSTAMP:20260419T102429
CREATED:20230601T154807Z
LAST-MODIFIED:20231027T194702Z
UID:14561-1698667200-1698670800@understandinginconflict.org
SUMMARY:Creative Uses of the Understanding-Based Model
DESCRIPTION:Learn about the many possibilities for conflict resolution and mediation practitioners to integrate the understanding-based approach into existing practices\, kick-start new careers\, and assist diverse sectors of society while fostering empathy\, advocating looping\, and encouraging transformative dialogue to address conflicts in creative ways. \nJoin Catherine Conner and Caitlin Meredith on October 30\, 2023 to explore the versatility of this approach in corporate\, legal\, educational\, and community settings. Whether you seek personal growth\, professional advancement\, or societal impact\, this webinar offers invaluable insights for effective conflict resolution and mediation. \n*Please select desired ticket and quantity using the +/- feature before clicking ‘Get Tickets.’ \n 
URL:https://understandinginconflict.org/event/creative-uses-of-the-understanding-based-model/
LOCATION:ONLINE
CATEGORIES:Traditional Mediation,Webinars
ATTACH;FMTTYPE=image/png:https://understandinginconflict.org/wp-content/uploads/2023/06/Event-Card-6.png
END:VEVENT
END:VCALENDAR