BEGIN:VCALENDAR
VERSION:2.0
PRODID:-//The Center for Understanding in Conflict - ECPv6.15.20//NONSGML v1.0//EN
CALSCALE:GREGORIAN
METHOD:PUBLISH
X-WR-CALNAME:The Center for Understanding in Conflict
X-ORIGINAL-URL:https://understandinginconflict.org
X-WR-CALDESC:Events for The Center for Understanding in Conflict
REFRESH-INTERVAL;VALUE=DURATION:PT1H
X-Robots-Tag:noindex
X-PUBLISHED-TTL:PT1H
BEGIN:VTIMEZONE
TZID:America/New_York
BEGIN:DAYLIGHT
TZOFFSETFROM:-0500
TZOFFSETTO:-0400
TZNAME:EDT
DTSTART:20250309T070000
END:DAYLIGHT
BEGIN:STANDARD
TZOFFSETFROM:-0400
TZOFFSETTO:-0500
TZNAME:EST
DTSTART:20251102T060000
END:STANDARD
BEGIN:DAYLIGHT
TZOFFSETFROM:-0500
TZOFFSETTO:-0400
TZNAME:EDT
DTSTART:20260308T070000
END:DAYLIGHT
BEGIN:STANDARD
TZOFFSETFROM:-0400
TZOFFSETTO:-0500
TZNAME:EST
DTSTART:20261101T060000
END:STANDARD
BEGIN:DAYLIGHT
TZOFFSETFROM:-0500
TZOFFSETTO:-0400
TZNAME:EDT
DTSTART:20270314T070000
END:DAYLIGHT
BEGIN:STANDARD
TZOFFSETFROM:-0400
TZOFFSETTO:-0500
TZNAME:EST
DTSTART:20271107T060000
END:STANDARD
END:VTIMEZONE
BEGIN:VEVENT
DTSTART;TZID=America/New_York:20260617T090000
DTEND;TZID=America/New_York:20260626T130000
DTSTAMP:20260419T111838
CREATED:20251213T002217Z
LAST-MODIFIED:20260406T215856Z
UID:62734-1781686800-1782478800@understandinginconflict.org
SUMMARY:Advanced Matrimonial Mediation Training
DESCRIPTION:Advanced Matrimonial Mediation Training\nMaster the Skills to Transform Divorce Outcomes\nJune 17\, 18\, 25 and 26\, 2026 (Online) \n9:00 am to 1:00 pm Eastern \n(Scroll to bottom of page to register) \n  \nTransform Your Practice with Advanced Matrimonial Mediation Skills \nJoin the Center for Understanding in Conflict for an immersive 16-hour training designed specifically for matrimonial attorneys seeking to join New York court mediation rosters—and for any professional who wants to use mediation techniques to help divorcing couples reach better outcomes. \nThis intensive program goes beyond basic mediation to teach you how to navigate the complex emotional and legal terrain of NYS divorce mediation with confidence and skill. You’ll learn to harness the power of understanding to help parties reach fuller\, more satisfying agreements—even in the most challenging cases. \n \nWhat You’ll Learn\nGain Essential Knowledge of New York Matrimonial Law Basics \n\nNYS child support guidelines and calculations\nNYS maintenance (spousal support) guidelines and calculations\nEquitable distribution of marital assets and debts\nParenting arrangements: custody\, visitation\, and decision-making authority\nHow to skillfully navigate the role of law and lawyers in divorce mediation\n\nDevelop Advanced Mediation Skills \n\nPractice the Understanding-Based Approach to unlock deeper\, more durable agreements\nDevelop techniques to address challenging family dynamics with confidence\nLearn how to work with attorneys in the room\nHandle high-conflict situations and emotional impasses\nGuide parties through complex financial and parenting issues\nUnderstand ethical considerations\n\nGain Court Roster Eligibility \nThis program is approved under Part 146.4(b)(2) of the Rules of the Chief Administrative Judge of New York State\, qualifying you to apply for matrimonial mediation rosters in New York courts. \n\nProvides 16 hours of NYS CLE credits\n\nHow You’ll Learn\nThis isn’t a lecture-based program. You’ll develop real skills through: \n\nRealistic role-plays that immerse you in authentic divorce scenarios\nLive demonstrations by expert trainers with years of matrimonial mediation experience\nCoached practice sessions where you’ll mediate cases and receive personalized feedback\nInteractive exercises that help you navigate the emotional challenges parties face\nCollaborative discussions with fellow professionals\n\nPast participants consistently describe this hands-on approach as both engaging and transformative. \n \nSchedule & Logistics\nWe will meet online from 9:00 am to 1:00 pm (with breaks) Eastern on \n\nWednesday\, June 17\, 2026\nThursday\, June 18\, 2026\nThursday June 25\, 2026\nFriday June 26\, 2026\n\n Who Should Attend\nThis advanced training is designed for professionals who have completed prior mediation training.  It is especially relevant for: \n\nAttorneys who want to expand into matrimonial mediation\nAttorney mediators seeking to apply for court roster placement\nMental health professionals in family practice\nFinancial professionals working with divorcing couples\nCollaborative practice professionals\nCoaches and consultants who want to increase their skills in matrimonial conflict resolution\nAnyone whose work involves helping families navigate separation and divorce\n\nNot sure if your prior training qualifies? Contact us at admin@understandinginconflict.org \nWho Are the Trainers?\nIvan Alter has practiced law since 1994\, but his career took a transformative turn when he discovered the understanding-based model at CUC. After years as a commercial and matrimonial litigator\, Ivan realized there was a better way to help families through divorce. Today\, he dedicates his practice entirely to mediation and collaborative law\, with offices in Westchester County and New York City. An active member of the New York Association of Collaborative Professionals\, the Family and Divorce Mediation Council\, the International Academy of Collaborative Professionals\, and Northern Westchester Collaborative Divorce\, Ivan is passionate about teaching others the skills that changed his professional life. \nJoy S. Rosenthal\, Esq. has been mediating divorce and practicing collaborative law since 2006.  Before going out on her own\, Joy represented children in foster care and in delinquency (criminal) proceedings. Joy taught family law at the City University of New York School of Law for several years\, and developed an online course called Landing On Your Feet – A Compassionate Lawyer’s Guide to Divorce for people who are going through divorce and separation.  The child support calculator on Joy’s website is used by lawyers and court staff throughout New York State. \nCost\nTraining Fee: $950 \n*Financial support may be available for training fees. Please contact us at admin@understandinginconflict.org for details or for any questions regarding logistics. \n**Those who register both for this course and for the 24-hour Basic Mediation Training course (June 02 – 04\, 2026) are also eligible to receive a 15% training fee discount\, applied to both programs\, as well as a 40-hour Mediation Training Certificate. Please contact admin@understandinginconflict.org if this applies to you. \nContinuing Education & Certification\nNew York CLE Credits: 16 hours (15 in skills/professional practice\, 1 in ethics)\nAppropriate for both newly admitted and experienced attorneys. \nPart 146 Approved: This in-person training is approved as a 16-hour Advanced Matrimonial Mediation Training under Part 146 of the New York State Unified Court System’s Office of ADR Programs. \n40-Hour Certification: Combine this program with our 24-hour Basic Mediation Training to receive a complete 40-hour mediation certification. \nNote: Final placement on court rosters is at the discretion of local Administrative Judges. Course approval does not guarantee roster placement. \nRegistration & Cancellation Policy\nCancellations: \n\n4+ weeks prior: Full refund minus $250 administration fee\n2-4 weeks prior: 50% refund (or full refund minus $250 if we fill your seat)\nLess than 2 weeks: No refund unless we fill your seat\n\nAdditional Notes\nRegistrations received fewer than 72 hours before the program will be accepted at the discretion of the training team due to role-play and logistics needs. \nFor questions\, contact us at admin@understandinginconflict.org \n \n**Please select desired ticket and quantity using the +/- feature before clicking ‘Get Tickets.’
URL:https://understandinginconflict.org/event/advanced-matrimonial-mediation-training/
LOCATION:ONLINE
CATEGORIES:Advanced Topics,East Coast Events,Online Training
ATTACH;FMTTYPE=image/png:https://understandinginconflict.org/wp-content/uploads/2025/12/Event-Card-45.png
END:VEVENT
END:VCALENDAR