BEGIN:VCALENDAR
VERSION:2.0
PRODID:-//The Center for Understanding in Conflict - ECPv6.15.20//NONSGML v1.0//EN
CALSCALE:GREGORIAN
METHOD:PUBLISH
X-ORIGINAL-URL:https://understandinginconflict.org
X-WR-CALDESC:Events for The Center for Understanding in Conflict
REFRESH-INTERVAL;VALUE=DURATION:PT1H
X-Robots-Tag:noindex
X-PUBLISHED-TTL:PT1H
BEGIN:VTIMEZONE
TZID:America/Los_Angeles
BEGIN:DAYLIGHT
TZOFFSETFROM:-0800
TZOFFSETTO:-0700
TZNAME:PDT
DTSTART:20240310T100000
END:DAYLIGHT
BEGIN:STANDARD
TZOFFSETFROM:-0700
TZOFFSETTO:-0800
TZNAME:PST
DTSTART:20241103T090000
END:STANDARD
BEGIN:DAYLIGHT
TZOFFSETFROM:-0800
TZOFFSETTO:-0700
TZNAME:PDT
DTSTART:20250309T100000
END:DAYLIGHT
BEGIN:STANDARD
TZOFFSETFROM:-0700
TZOFFSETTO:-0800
TZNAME:PST
DTSTART:20251102T090000
END:STANDARD
BEGIN:DAYLIGHT
TZOFFSETFROM:-0800
TZOFFSETTO:-0700
TZNAME:PDT
DTSTART:20260308T100000
END:DAYLIGHT
BEGIN:STANDARD
TZOFFSETFROM:-0700
TZOFFSETTO:-0800
TZNAME:PST
DTSTART:20261101T090000
END:STANDARD
END:VTIMEZONE
BEGIN:VEVENT
DTSTART;TZID=America/Los_Angeles:20251215T120000
DTEND;TZID=America/Los_Angeles:20251215T130000
DTSTAMP:20260425T140343
CREATED:20251117T174205Z
LAST-MODIFIED:20251120T150843Z
UID:62655-1765800000-1765803600@understandinginconflict.org
SUMMARY:CUC Connect Online Mixer: Getting Started in 2026
DESCRIPTION:CUC Connect Member-Only | December SessionPresentation + Small Group Discussion \nJoin us for a dynamic and collaborative members-only gathering focused on launching your journey toward deeper mediation experience in the understanding-based approach. \nCatherine Conner\, Gary Friedman\, Joy Rosenthal\, Ivan Alter\, and Melanie Rowen will share practical strategies and personal insights on how to begin or deepen your path in mediation. We will explore how to: \n\nIdentify local opportunities to engage with conflict work\nReach out to potential referral sources and community partners\nBuild a simple\, values-aligned portfolio grounded in the understanding-based approach\n\nAfter the presentation\, we will move into small\, facilitated groups designed to foster peer connection\, collaborative learning\, and open sharing. You will have space to: \n\nShare what is happening in your community\nTrade tips\, experiences\, and contacts\nExplore ideas for next steps\, both individually and collectively\n\nWe will reconvene as a full group to surface key takeaways\, reflect on themes that emerge\, and begin visioning together for what is possible in 2026. A member-sourced resource list will be shared after the session to support your continued growth and collaboration. \nLet’s connect\, strategize\, and build momentum together! \nMembers will be sent a calendar invite and Zoom information directly. 
URL:https://understandinginconflict.org/event/cuc-connect-online-mixer-getting-started-in-2026/
LOCATION:ONLINE
CATEGORIES:CUC Connect Member Event,Webinars
ATTACH;FMTTYPE=image/png:https://understandinginconflict.org/wp-content/uploads/2025/11/Event-Card-37.png
END:VEVENT
END:VCALENDAR