BEGIN:VCALENDAR
VERSION:2.0
PRODID:-//The Center for Understanding in Conflict - ECPv6.15.20//NONSGML v1.0//EN
CALSCALE:GREGORIAN
METHOD:PUBLISH
X-WR-CALNAME:The Center for Understanding in Conflict
X-ORIGINAL-URL:https://understandinginconflict.org
X-WR-CALDESC:Events for The Center for Understanding in Conflict
REFRESH-INTERVAL;VALUE=DURATION:PT1H
X-Robots-Tag:noindex
X-PUBLISHED-TTL:PT1H
BEGIN:VTIMEZONE
TZID:America/Los_Angeles
BEGIN:DAYLIGHT
TZOFFSETFROM:-0800
TZOFFSETTO:-0700
TZNAME:PDT
DTSTART:20240310T100000
END:DAYLIGHT
BEGIN:STANDARD
TZOFFSETFROM:-0700
TZOFFSETTO:-0800
TZNAME:PST
DTSTART:20241103T090000
END:STANDARD
BEGIN:DAYLIGHT
TZOFFSETFROM:-0800
TZOFFSETTO:-0700
TZNAME:PDT
DTSTART:20250309T100000
END:DAYLIGHT
BEGIN:STANDARD
TZOFFSETFROM:-0700
TZOFFSETTO:-0800
TZNAME:PST
DTSTART:20251102T090000
END:STANDARD
BEGIN:DAYLIGHT
TZOFFSETFROM:-0800
TZOFFSETTO:-0700
TZNAME:PDT
DTSTART:20260308T100000
END:DAYLIGHT
BEGIN:STANDARD
TZOFFSETFROM:-0700
TZOFFSETTO:-0800
TZNAME:PST
DTSTART:20261101T090000
END:STANDARD
END:VTIMEZONE
BEGIN:VEVENT
DTSTART;TZID=America/Los_Angeles:20251009T120000
DTEND;TZID=America/Los_Angeles:20251009T140000
DTSTAMP:20260420T193740
CREATED:20250613T190504Z
LAST-MODIFIED:20251014T190701Z
UID:48149-1760011200-1760018400@understandinginconflict.org
SUMMARY:Series - Navigating Difficult Conversations
DESCRIPTION:Conflict is part of life – but navigating it well requires more than instinct. This two-part online course gives you practical skills and a supportive structure to face conflict with intention\, clarity\, and empathy. You’ll learn how to prepare for\, invite\, and engage in challenging conversations that build understanding\, even when stakes are high. This course is focused on conversations in which you are one of the parties in conflict although the concepts and tools are applicable to all conflict-laden conversations. \nCourse Overview\nThrough short lectures\, guided reflections\, group dialogue\, and real-life role play\, you’ll gain practical tools and insights to approach conflict differently. You’ll also explore your own reactions to conflict\, work with allies\, and practice core communication techniques like looping and checking for understanding. \nThe course is grounded in the Understanding-Based approach and structured around three essential areas: \n\nPreparing Yourself: Clarify your motivations and what’s at stake for you. Understand when a conversation may – or may not – be productive.\nInviting and Structuring the Conversation: Learn how to invite others into a dialogue in a way that increases the chances of connection. Set clear agreements to create a safe and intentional space.\nEngaging in the Conversation: Practice staying grounded and responsive\, even in the heat of conflict. Explore how to listen deeply\, express your own truth\, and work toward outcomes that reflect what matters most to all involved.\n\nWho Should Attend\nThis course is designed for anyone who wants to handle conflict more constructively – in personal\, professional\, or community settings. Whether you’re navigating a challenging work relationship\, looking for a way to shift communication patterns in a community group or family or simply wanting to show up differently in difficult conversations\, this training offers insight and practical tools to help you do so with more confidence and clarity. \nWhat You’ll Gain\n\nA clear process for approaching difficult conversations\nInsight into your own patterns and motivations in conflict\nPractical experience inviting and engaging others in dialogue\nTools to foster mutual understanding and make meaningful progress\n\nPre-Course Reflection\nYou’ll be asked to bring a real-life situation involving one of their own conflicts to explore during the course. \nProgram Schedule\n\nDates: October 9 and 23\, 2025\nTime: 12 – 2 PM PT / 3 – 5:00 PM ET\nFormat: Online via Zoom\nCost: $250 for the full series\n\nCancellation Policy\nCancellations within 30 days will incur a $250 admin fee. Within 2 weeks\, 50% of the fee will be retained (half applicable to a future course). No refunds within 1 week of the course start unless a replacement participant is found. No refunds after the series begins. \nPlease note: Trainer availability may change without notice. \nTrainers\nArmine Baltazar is a mediator and a collaborative attorney in Los Angeles.  After over 20 years of practicing in the litigation arena\, Armine finds it deeply fulfilling to help couples find a non-litigated way through divorce. She co-founded HEALTHY Divorce\, a Los Angeles Superior Court pilot project that links lower-income divorcing couples with support services such as legal\, parenting\, mental health\, and housing. She is also a member of CUC’s Programs Committee and is the Chair of Virtual Divorce California’s Diversity Committee. \nSethu Laxmi Nair is a mediator\, facilitator\, coach\, and trainer in the fields of alternative dispute resolution and restorative practices. Currently\, she serves as the Director of Alternative Dispute Resolution (ADR) and Restorative Practices at the Center for Creative Conflict Resolution\, an innovative public service group that offers a blend of conflict resolution\, training\, and systems design options within and across the New York City government. Through her private practice\, Sethu consults with nonprofit organizations and businesses\, offering a unique blend of leadership coaching\, mediation\, and group conflict management. \n 
URL:https://understandinginconflict.org/event/series-navigating-difficult-conversations-3/
LOCATION:ONLINE
CATEGORIES:Advanced Topics,Online Training,Practitioner Training
ATTACH;FMTTYPE=image/png:https://understandinginconflict.org/wp-content/uploads/2025/06/Event-Card-12.png
END:VEVENT
END:VCALENDAR